BEGIN:VCALENDAR
VERSION:2.0
PRODID:-//Comfy Events - ECPv6.3.4//NONSGML v1.0//EN
CALSCALE:GREGORIAN
METHOD:PUBLISH
X-WR-CALNAME:Comfy Events
X-ORIGINAL-URL:https://comfyevents.com
X-WR-CALDESC:Events for Comfy Events
REFRESH-INTERVAL;VALUE=DURATION:PT1H
X-Robots-Tag:noindex
X-PUBLISHED-TTL:PT1H
BEGIN:VTIMEZONE
TZID:UTC
BEGIN:STANDARD
TZOFFSETFROM:+0000
TZOFFSETTO:+0000
TZNAME:UTC
DTSTART:20230101T000000
END:STANDARD
END:VTIMEZONE
BEGIN:VEVENT
DTSTART;TZID=UTC:20230729T080000
DTEND;TZID=UTC:20230729T170000
DTSTAMP:20260424T110314
CREATED:20220905T064823Z
LAST-MODIFIED:20230523T182010Z
UID:4568-1690617600-1690650000@comfyevents.com
SUMMARY:Ifedolapo & Tega
DESCRIPTION:
URL:https://comfyevents.com/event/ifedolapo-tega-2/
LOCATION:Dejavu Hotel & Suites\, Plot 3\, Elshadai Road\, Alagbaka GRA\, Akure\, Ondo State
ATTACH;FMTTYPE=image/jpeg:https://comfyevents.com/wp-content/uploads/2018/09/WhatsApp-Image-2023-05-23-at-14.51.11-1.jpg
ORGANIZER;CN="Comfy Events":MAILTO:info@comfyevents.com
END:VEVENT
BEGIN:VEVENT
DTSTART;TZID=UTC:20230729T100000
DTEND;TZID=UTC:20230729T130000
DTSTAMP:20260424T110314
CREATED:20230506T052935Z
LAST-MODIFIED:20230523T180306Z
UID:303-1690624800-1690635600@comfyevents.com
SUMMARY:Ifedolapo & Tega
DESCRIPTION:
URL:https://comfyevents.com/event/ifedolapo-tega/
LOCATION:Dejavu Hotel & Suites\, Plot 3\, Elshadai Road\, Alagbaka GRA\, Akure\, Ondo State
CATEGORIES:Product Launching
ATTACH;FMTTYPE=image/jpeg:https://comfyevents.com/wp-content/uploads/2018/09/WhatsApp-Image-2023-05-23-at-14.51.11-1.jpg
ORGANIZER;CN="Comfy Events":MAILTO:info@comfyevents.com
END:VEVENT
BEGIN:VEVENT
DTSTART;TZID=UTC:20230729T110000
DTEND;TZID=UTC:20230729T190000
DTSTAMP:20260424T110314
CREATED:20230406T052808Z
LAST-MODIFIED:20230523T182615Z
UID:294-1690628400-1690657200@comfyevents.com
SUMMARY:Ifedolapo & Tega
DESCRIPTION:
URL:https://comfyevents.com/event/ifedolapo-tega-3/
LOCATION:Dejavu Hotel & Suites\, Plot 3\, Elshadai Road\, Alagbaka GRA\, Akure\, Ondo State
ATTACH;FMTTYPE=image/jpeg:https://comfyevents.com/wp-content/uploads/2018/09/WhatsApp-Image-2023-05-23-at-14.51.11-1.jpg
ORGANIZER;CN="Comfy Events":MAILTO:info@comfyevents.com
END:VEVENT
END:VCALENDAR